BEGIN:VCALENDAR
VERSION:2.0
PRODID:-//Knowledge Makers Journal - ECPv6.14.2//NONSGML v1.0//EN
CALSCALE:GREGORIAN
METHOD:PUBLISH
X-ORIGINAL-URL:https://knowledgemakers.trubox.ca
X-WR-CALDESC:Events for Knowledge Makers Journal
REFRESH-INTERVAL;VALUE=DURATION:PT1H
X-Robots-Tag:noindex
X-PUBLISHED-TTL:PT1H
BEGIN:VTIMEZONE
TZID:America/Vancouver
BEGIN:DAYLIGHT
TZOFFSETFROM:-0800
TZOFFSETTO:-0700
TZNAME:PDT
DTSTART:20250309T100000
END:DAYLIGHT
BEGIN:STANDARD
TZOFFSETFROM:-0700
TZOFFSETTO:-0800
TZNAME:PST
DTSTART:20251102T090000
END:STANDARD
END:VTIMEZONE
BEGIN:VEVENT
DTSTART;TZID=America/Vancouver:20251105T100000
DTEND;TZID=America/Vancouver:20251105T130000
DTSTAMP:20260420T044309
CREATED:20251023T194853Z
LAST-MODIFIED:20251024T062043Z
UID:8138-1762336800-1762347600@knowledgemakers.trubox.ca
SUMMARY:Deconstructing Indigeneity through Art
DESCRIPTION:We invite you to join us in exploring one’s creativity through beadwork\, painting\, and learning part of Secwepemctsín\, as we engage in conversations concerning Indigeneity\, culture\, and shared experiences\, in a social/academic space. In these activities\, we encourage students from different backgrounds to share their knowledge\, experiences and concepts of how Indigeneity is perceived from various parts of the world\, and what information they would want to discover as they learn from Indigenous scholars and faculty. Our space is open to Indigenous\, Non-Indigenous\, and International Undergraduate and Graduate students. Food and refreshments shall be provided.  \nDate: Wednesday \, November 5th \nTime: 10:00 a.m. – 1:00 p.m. \nLocation: OLARA building 2nd floor\, Lounge area near All My Relations Offices \nRSVP through this form: \n\n                \n                        \n                            Deconstructing Indigeneity\n                            Come connect and learn through conversations on Indigeneity\, culture\, and shared experiences\, considering identity and place in a supportive social‑academic space. \n                        \n        \n        	Step 1 of 2\n        	 \n            \n                50%\n            \n                        \n					Contact DetailsName(Required)\n                            \n                            \n                                                    First\n                                                    \n                                                \n                            \n                            \n                                                            Last\n                                                            \n                                                        \n                            \n                        Email(Required)\n                                \n                                    Enter Email\n                                    \n                                \n                                \n                                    Confirm Email\n                                    \n                                \n                                \n                            Phone\n                    \n                    \n                          \n                    \n                \n                \n                    \n                        Any dietary restrictions?AllergiesVeganVegetarianGlutenOther\nHow did you hear about this event?Social MediaKnowledge Makers WebsiteEmailWord of MouthRefer a FriendOther
URL:https://knowledgemakers.trubox.ca/event/deconstructing-indigeneity-through-art/
LOCATION:OLARA building 2nd floor\, Lounge area at All My Relations
ATTACH;FMTTYPE=image/jpeg:https://knowledgemakers.trubox.ca/wp-content/uploads/sites/293/2025/10/Brown-Beige-Illustration-Art-Classes-Poster-1-scaled.jpg
END:VEVENT
END:VCALENDAR