BEGIN:VCALENDAR
VERSION:2.0
PRODID:-//Knowledge Makers Journal - ECPv6.14.2//NONSGML v1.0//EN
CALSCALE:GREGORIAN
METHOD:PUBLISH
X-ORIGINAL-URL:https://knowledgemakers.trubox.ca
X-WR-CALDESC:Events for Knowledge Makers Journal
REFRESH-INTERVAL;VALUE=DURATION:PT1H
X-Robots-Tag:noindex
X-PUBLISHED-TTL:PT1H
BEGIN:VTIMEZONE
TZID:America/Vancouver
BEGIN:DAYLIGHT
TZOFFSETFROM:-0800
TZOFFSETTO:-0700
TZNAME:PDT
DTSTART:20250309T100000
END:DAYLIGHT
BEGIN:STANDARD
TZOFFSETFROM:-0700
TZOFFSETTO:-0800
TZNAME:PST
DTSTART:20251102T090000
END:STANDARD
BEGIN:DAYLIGHT
TZOFFSETFROM:-0800
TZOFFSETTO:-0700
TZNAME:PDT
DTSTART:20260308T100000
END:DAYLIGHT
BEGIN:STANDARD
TZOFFSETFROM:-0700
TZOFFSETTO:-0800
TZNAME:PST
DTSTART:20261101T090000
END:STANDARD
END:VTIMEZONE
BEGIN:VEVENT
DTSTART;TZID=America/Vancouver:20251024T090000
DTEND;TZID=America/Vancouver:20251024T170000
DTSTAMP:20260420T161110
CREATED:20250919T162825Z
LAST-MODIFIED:20250919T163424Z
UID:8084-1761296400-1761325200@knowledgemakers.trubox.ca
SUMMARY:Gender Affirming Ribbon Garment Workshop - Indigiqueer Firekeepers (Option one)
DESCRIPTION:🌈 Gender-Affirming Ribbon Garment WorkshopHosted by Knowledge Keepers | For Indigenous & 2SLGBQIA+ Community \nJoin us for a hands-on\, gender-affirming ribbon garment workshop led by Indigenous Knowledge Keepers Bernice Jensen and Susan Oliverius. This space is created by and for Indigenous and 2SLGBQIA+ folks to explore cultural expression\, identity\, and community through the making of ribbon garments. \nTogether\, we’ll learn traditional teachings\, garment-making techniques\, and the significance of ribbon work in expressing gender\, kinship\, and resistance. You are welcome whether you’re reconnecting with your culture\, are fully immersed within your culture and identity\, or are continuing your personal journey. \nWho This Is For:This workshop is specifically intended for Indigenous and 2SLGBQIA+ participants. All experience levels are welcome. \nWhat’s Provided: \n\nFabric\, Ribbons\, and any materials for garment making\nTeachings from Knowledge Keepers\nLight refreshments (lunch will also be provided)\nA safe and supportive environment\n\n✨ SIGN UP HERE ✨ \nYou’ll see two date options — please select only one \nSpace is limited\, so we encourage early registration to secure your spot.
URL:https://knowledgemakers.trubox.ca/event/gender-affirming-ribbon-garment-workshop-indigiqueer-firekeepers-day-one/
LOCATION:OLARA 200
CATEGORIES:IndigiQueer
ATTACH;FMTTYPE=image/jpeg:https://knowledgemakers.trubox.ca/wp-content/uploads/sites/293/2025/09/Instagram-Post-Medium-Banner-US-Landscape-scaled.jpg
END:VEVENT
BEGIN:VEVENT
DTSTART;TZID=America/Vancouver:20251025T090000
DTEND;TZID=America/Vancouver:20251025T170000
DTSTAMP:20260420T161110
CREATED:20250919T163450Z
LAST-MODIFIED:20250919T163450Z
UID:8090-1761382800-1761411600@knowledgemakers.trubox.ca
SUMMARY:Gender Affirming Ribbon Garment Workshop - Indigiqueer Firekeepers (Option two)
DESCRIPTION:🌈 Gender-Affirming Ribbon Garment WorkshopHosted by Knowledge Keepers | For Indigenous & 2SLGBQIA+ Community \nJoin us for a hands-on\, gender-affirming ribbon garment workshop led by Indigenous Knowledge Keepers Bernice Jensen and Susan Oliverius. This space is created by and for Indigenous and 2SLGBQIA+ folks to explore cultural expression\, identity\, and community through the making of ribbon garments. \nTogether\, we’ll learn traditional teachings\, garment-making techniques\, and the significance of ribbon work in expressing gender\, kinship\, and resistance. You are welcome whether you’re reconnecting with your culture\, are fully immersed within your culture and identity\, or are continuing your personal journey. \nWho This Is For:This workshop is specifically intended for Indigenous and 2SLGBQIA+ participants. All experience levels are welcome. \nWhat’s Provided: \n\nFabric\, Ribbons\, and any materials for garment making\nTeachings from Knowledge Keepers\nLight refreshments (lunch will also be provided)\nA safe and supportive environment\n\n✨ SIGN UP HERE ✨ \nYou’ll see two date options — please select only one \nSpace is limited\, so we encourage early registration to secure your spot.
URL:https://knowledgemakers.trubox.ca/event/gender-affirming-ribbon-garment-workshop-indigiqueer-firekeepers-option-two/
LOCATION:OLARA 200
END:VEVENT
BEGIN:VEVENT
DTSTART;TZID=America/Vancouver:20251105T100000
DTEND;TZID=America/Vancouver:20251105T130000
DTSTAMP:20260420T161110
CREATED:20251023T194853Z
LAST-MODIFIED:20251024T062043Z
UID:8138-1762336800-1762347600@knowledgemakers.trubox.ca
SUMMARY:Deconstructing Indigeneity through Art
DESCRIPTION:We invite you to join us in exploring one’s creativity through beadwork\, painting\, and learning part of Secwepemctsín\, as we engage in conversations concerning Indigeneity\, culture\, and shared experiences\, in a social/academic space. In these activities\, we encourage students from different backgrounds to share their knowledge\, experiences and concepts of how Indigeneity is perceived from various parts of the world\, and what information they would want to discover as they learn from Indigenous scholars and faculty. Our space is open to Indigenous\, Non-Indigenous\, and International Undergraduate and Graduate students. Food and refreshments shall be provided.  \nDate: Wednesday \, November 5th \nTime: 10:00 a.m. – 1:00 p.m. \nLocation: OLARA building 2nd floor\, Lounge area near All My Relations Offices \nRSVP through this form: \n\n                \n                        \n                            Deconstructing Indigeneity\n                            Come connect and learn through conversations on Indigeneity\, culture\, and shared experiences\, considering identity and place in a supportive social‑academic space. \n                        \n        \n        	Step 1 of 2\n        	 \n            \n                50%\n            \n                        \n					Contact DetailsName(Required)\n                            \n                            \n                                                    First\n                                                    \n                                                \n                            \n                            \n                                                            Last\n                                                            \n                                                        \n                            \n                        Email(Required)\n                                \n                                    Enter Email\n                                    \n                                \n                                \n                                    Confirm Email\n                                    \n                                \n                                \n                            Phone\n                    \n                    \n                          \n                    \n                \n                \n                    \n                        Any dietary restrictions?AllergiesVeganVegetarianGlutenOther\nHow did you hear about this event?Social MediaKnowledge Makers WebsiteEmailWord of MouthRefer a FriendOther
URL:https://knowledgemakers.trubox.ca/event/deconstructing-indigeneity-through-art/
LOCATION:OLARA building 2nd floor\, Lounge area at All My Relations
ATTACH;FMTTYPE=image/jpeg:https://knowledgemakers.trubox.ca/wp-content/uploads/sites/293/2025/10/Brown-Beige-Illustration-Art-Classes-Poster-1-scaled.jpg
END:VEVENT
BEGIN:VEVENT
DTSTART;TZID=America/Vancouver:20251127T100000
DTEND;TZID=America/Vancouver:20251127T120000
DTSTAMP:20260420T161110
CREATED:20251106T040933Z
LAST-MODIFIED:20251112T214444Z
UID:8150-1764237600-1764244800@knowledgemakers.trubox.ca
SUMMARY:The Research Toolkit: Scoping Reviews
DESCRIPTION:  \nSCOPING REVIEW (1)\nJoin us for another addition to The Research Toolkit series hosted by All My Relations in partnership with TRU Student Research! \nWithin this workshop\, you will learn how to break down a topic into a step-by-step formula\, practice identifying and synthesizing literature\, and get tips on best practices to make scoping reviews easy!\nLed by Juanita Dawne-Bacsu\, PhD\, an expert in rural health and population studies with extensive grant writing experience\, this workshop is open to all students\, staff and faculty. \n📅 Date: November 27th\, 2025\n🕥 Time: 10:00 AM – 12:00 PM\n📍 Location: PHARR Centre\, Nursing Building Room 245\, TRU Campus \nWe hope to see you there! \nSpots are limited—register today to secure your place and gain the tools to succeed in your scoping review endeavors. \n  \n\n                \n                        \n                            Scoping Review Registration\n                             \n                        \n                        Name(Required)\n                            \n                            \n                                                    First\n                                                    \n                                                \n                            \n                            \n                                                            Last\n                                                            \n                                                        \n                            \n                        Email(Required)\n                                \n                                    Enter Email\n                                    \n                                \n                                \n                                    Confirm Email\n                                    \n                                \n                                \n                            Faculty of Program of studyIf you are a student\, what year are you in?
URL:https://knowledgemakers.trubox.ca/event/the-research-toolkit-scoping-reviews/
LOCATION:Chappell Family Building for Nursing and Population Health – PHARR Center (Room 245)\, 840 College Drive\, Kamloops\, British Columbia\, V2C 0B8\, Canada
ATTACH;FMTTYPE=image/png:https://knowledgemakers.trubox.ca/wp-content/uploads/sites/293/2025/11/SCOPING-REVIEW.png
END:VEVENT
BEGIN:VEVENT
DTSTART;VALUE=DATE:20260307
DTEND;VALUE=DATE:20260308
DTSTAMP:20260420T161110
CREATED:20260204T185820Z
LAST-MODIFIED:20260204T185912Z
UID:8463-1772841600-1772927999@knowledgemakers.trubox.ca
SUMMARY:Gender Affirming Ribbon Clothing Workshop - Indigiqueer Firekeepers (Option one)
DESCRIPTION:🌈 Gender-Affirming Ribbon Clothing WorkshopHosted by Knowledge Keepers | For Indigenous & 2SLGBQIA+ Community \nJoin us for a hands-on\, gender-affirming ribbon garment workshop led by Indigenous Knowledge Keepers Bernice Jensen and Susan Oliverius. This space is created by and for Indigenous and 2SLGBQIA+ folks to explore cultural expression\, identity\, and community through the making of ribbon garments. \nTogether\, we’ll learn traditional teachings\, garment-making techniques\, and the significance of ribbon work in expressing gender\, kinship\, and resistance. You are welcome whether you’re reconnecting with your culture\, are fully immersed within your culture and identity\, or are continuing your personal journey. \nWho This Is For:This workshop is specifically intended for Indigenous and 2SLGBQIA+ participants. All experience levels are welcome. \nWhat’s Provided: \n\nFabric\, Ribbons\, and any materials for garment making\nTeachings from Knowledge Keepers\nLight refreshments (lunch will also be provided)\nA safe and supportive environment\n\n✨ SIGN UP HERE ✨ \nYou’ll see two date options — please select only one \nSpace is limited\, so we encourage early registration to secure your spot.
URL:https://knowledgemakers.trubox.ca/event/gender-affirming-ribbon-clothing-workshop-indigiqueer-firekeepers-option-one/
LOCATION:OLARA 200
CATEGORIES:IndigiQueer,Workshop
ATTACH;FMTTYPE=image/jpeg:https://knowledgemakers.trubox.ca/wp-content/uploads/sites/293/2026/02/Instagram-Post-Medium-Banner-US-Landscape-2-scaled.jpg
END:VEVENT
BEGIN:VEVENT
DTSTART;VALUE=DATE:20260308
DTEND;VALUE=DATE:20260309
DTSTAMP:20260420T161110
CREATED:20260204T190044Z
LAST-MODIFIED:20260204T190044Z
UID:8468-1772928000-1773014399@knowledgemakers.trubox.ca
SUMMARY:Gender Affirming Ribbon Clothing Workshop - Indigiqueer Firekeepers (Option two)
DESCRIPTION:🌈 Gender-Affirming Ribbon Clothing WorkshopHosted by Knowledge Keepers | For Indigenous & 2SLGBQIA+ Community \nJoin us for a hands-on\, gender-affirming ribbon garment workshop led by Indigenous Knowledge Keepers Bernice Jensen and Susan Oliverius. This space is created by and for Indigenous and 2SLGBQIA+ folks to explore cultural expression\, identity\, and community through the making of ribbon garments. \nTogether\, we’ll learn traditional teachings\, garment-making techniques\, and the significance of ribbon work in expressing gender\, kinship\, and resistance. You are welcome whether you’re reconnecting with your culture\, are fully immersed within your culture and identity\, or are continuing your personal journey. \nWho This Is For:This workshop is specifically intended for Indigenous and 2SLGBQIA+ participants. All experience levels are welcome. \nWhat’s Provided: \n\nFabric\, Ribbons\, and any materials for garment making\nTeachings from Knowledge Keepers\nLight refreshments (lunch will also be provided)\nA safe and supportive environment\n\n✨ SIGN UP HERE ✨ \nYou’ll see two date options — please select only one \nSpace is limited\, so we encourage early registration to secure your spot.
URL:https://knowledgemakers.trubox.ca/event/gender-affirming-ribbon-clothing-workshop-indigiqueer-firekeepers-option-two/
LOCATION:OLARA 200
CATEGORIES:IndigiQueer,Workshop
END:VEVENT
BEGIN:VEVENT
DTSTART;VALUE=DATE:20260502
DTEND;VALUE=DATE:20260503
DTSTAMP:20260420T161110
CREATED:20260405T225246Z
LAST-MODIFIED:20260405T225425Z
UID:8472-1777680000-1777766399@knowledgemakers.trubox.ca
SUMMARY:Gender Affirming Ribbon Clothing Workshop - Indigiqueer Firekeepers (Option one)
DESCRIPTION:🌈 Gender-Affirming Ribbon Clothing WorkshopHosted by Knowledge Keepers | For Indigenous & 2SLGBQIA+ Community \nJoin us for a hands-on\, gender-affirming ribbon garment workshop led by Indigenous Knowledge Keepers Bernice Jensen and Susan Oliverius. This space is created by and for Indigenous and 2SLGBQIA+ folks to explore cultural expression\, identity\, and community through the making of ribbon garments. \nTogether\, we’ll learn traditional teachings\, clothing-making/customizing techniques\, and the significance of ribbon work in expressing gender\, kinship\, and resistance. You are welcome whether you’re reconnecting with your culture\, fully immersed in your culture and identity\, or continuing your personal journey. \nWho This Is For:This workshop is specifically intended for Indigenous and 2SLGBQIA+ participants. All experience levels are welcome. \nWhat’s Provided: \n\nFabric\, Ribbons\, and any materials for garment making/customizing\nTeachings from Knowledge Keepers\nLight refreshments (lunch will also be provided)\nA safe and supportive environment\n\n✨ SIGN UP HERE ✨ \nYou’ll see two date options — please select only one \nSpace is limited\, so we encourage early registration to secure your spot.
URL:https://knowledgemakers.trubox.ca/event/8472/
LOCATION:OLARA 200
CATEGORIES:IndigiQueer,Workshop
END:VEVENT
BEGIN:VEVENT
DTSTART;VALUE=DATE:20260503
DTEND;VALUE=DATE:20260504
DTSTAMP:20260420T161110
CREATED:20260405T225537Z
LAST-MODIFIED:20260405T225613Z
UID:8475-1777766400-1777852799@knowledgemakers.trubox.ca
SUMMARY:Gender Affirming Ribbon Clothing Workshop - Indigiqueer Firekeepers (Option two)
DESCRIPTION:🌈 Gender-Affirming Ribbon Clothing WorkshopHosted by Knowledge Keepers | For Indigenous & 2SLGBTQIA+ Community \nJoin us for a hands-on\, gender-affirming ribbon garment workshop led by Indigenous Knowledge Keepers Bernice Jensen and Susan Oliverius. This space is created by and for Indigenous and 2SLGTBQIA+ folks to explore cultural expression\, identity\, and community through the making of ribbon garments. \nTogether\, we’ll learn traditional teachings\, clothing-making/customizing techniques\, and the significance of ribbon work in expressing gender\, kinship\, and resistance. You are welcome whether you’re reconnecting with your culture\, fully immersed in your culture and identity\, or continuing your personal journey. \nWho This Is For:This workshop is specifically intended for Indigenous and 2SLGBTQIA+ participants. All experience levels are welcome. \nWhat’s Provided: \n\nFabric\, Ribbons\, and any materials for garment making/customizing\nTeachings from Knowledge Keepers\nLight refreshments (lunch will also be provided)\nA safe and supportive environment\n\n✨ SIGN UP HERE ✨ \nYou’ll see two date options — please select only one \nSpace is limited\, so we encourage early registration to secure your spot.
URL:https://knowledgemakers.trubox.ca/event/gender-affirming-ribbon-clothing-workshop-indigiqueer-firekeepers-option-two-2/
LOCATION:OLARA 200
CATEGORIES:IndigiQueer,Workshop
END:VEVENT
END:VCALENDAR