BEGIN:VCALENDAR
VERSION:2.0
PRODID:-//Knowledge Makers Journal - ECPv6.14.2//NONSGML v1.0//EN
CALSCALE:GREGORIAN
METHOD:PUBLISH
X-WR-CALNAME:Knowledge Makers Journal
X-ORIGINAL-URL:https://knowledgemakers.trubox.ca
X-WR-CALDESC:Events for Knowledge Makers Journal
REFRESH-INTERVAL;VALUE=DURATION:PT1H
X-Robots-Tag:noindex
X-PUBLISHED-TTL:PT1H
BEGIN:VTIMEZONE
TZID:America/Vancouver
BEGIN:DAYLIGHT
TZOFFSETFROM:-0800
TZOFFSETTO:-0700
TZNAME:PDT
DTSTART:20240310T100000
END:DAYLIGHT
BEGIN:STANDARD
TZOFFSETFROM:-0700
TZOFFSETTO:-0800
TZNAME:PST
DTSTART:20241103T090000
END:STANDARD
END:VTIMEZONE
BEGIN:VEVENT
DTSTART;TZID=America/Vancouver:20241119T160000
DTEND;TZID=America/Vancouver:20241119T180000
DTSTAMP:20260420T072317
CREATED:20241112T211212Z
LAST-MODIFIED:20250112T233308Z
UID:7122-1732032000-1732039200@knowledgemakers.trubox.ca
SUMMARY:IndigiQueer Firekeepers - Beading night
DESCRIPTION:Join us for an evening of creativity\, culture\, and connection at Indigiqueer Beading Night! This event is a space for 2SLGBTQIA+ Indigenous folks to gather\, bead\, and share stories in a welcoming\, inclusive environment. Whether you’re an experienced beader or just starting out your beadwork journey\, come enjoy a night of hands-on creativity and community. \nWhat to Expect: \nBeading Supplies Provided: We’ll have materials on hand\, but feel free to bring any of your own supplies or pieces you’re working on.\nGuidance & Support: Get tips from experienced beaders and try your hand at new or different techniques\, all skill levels welcome!\nSnacks & Refreshments: Light snacks and drinks will be available to keep you fueled and focused.\nCommunity Connection: Enjoy the chance to relax\, create\, and connect with others on a similar path. \nBring your friends\, creativity\, and stories—let’s make this a beautiful night of art\, identity\, and celebration.
URL:https://knowledgemakers.trubox.ca/event/indigiqueer-firekeepers-beading-night/
LOCATION:Olara 2nd Floor (Next to Clock Tower)\, 805 Tru Way\, Kamloops\, BC\, V2C 0C8\, Canada
CATEGORIES:Events,IndigiQueer
ATTACH;FMTTYPE=image/png:https://knowledgemakers.trubox.ca/wp-content/uploads/sites/293/2024/11/Firekeepers-banner2.png
END:VEVENT
END:VCALENDAR